BEGIN:VCALENDAR
VERSION:2.0
PRODID:-//Frame Center - ECPv6.2.9//NONSGML v1.0//EN
CALSCALE:GREGORIAN
METHOD:PUBLISH
X-WR-CALNAME:Frame Center
X-ORIGINAL-URL:https://framecenter.com
X-WR-CALDESC:Events for Frame Center
REFRESH-INTERVAL;VALUE=DURATION:PT1H
X-Robots-Tag:noindex
X-PUBLISHED-TTL:PT1H
BEGIN:VTIMEZONE
TZID:America/New_York
BEGIN:DAYLIGHT
TZOFFSETFROM:-0500
TZOFFSETTO:-0400
TZNAME:EDT
DTSTART:20220313T070000
END:DAYLIGHT
BEGIN:STANDARD
TZOFFSETFROM:-0400
TZOFFSETTO:-0500
TZNAME:EST
DTSTART:20221106T060000
END:STANDARD
BEGIN:DAYLIGHT
TZOFFSETFROM:-0500
TZOFFSETTO:-0400
TZNAME:EDT
DTSTART:20230312T070000
END:DAYLIGHT
BEGIN:STANDARD
TZOFFSETFROM:-0400
TZOFFSETTO:-0500
TZNAME:EST
DTSTART:20231105T060000
END:STANDARD
END:VTIMEZONE
BEGIN:VEVENT
DTSTART;TZID=America/New_York:20221203T000000
DTEND;TZID=America/New_York:20230105T235959
DTSTAMP:20260421T192509
CREATED:20221111T153040Z
LAST-MODIFIED:20221111T153040Z
UID:10001944-1670025600-1672963199@framecenter.com
SUMMARY:Drawn Out
DESCRIPTION:The North River Arts Society Presents \nJody Regan\nDrawn Out\nCome and see her works displayed at \nthe Dolphin Gallery at the Hingham Library \nOpening Reception is  \nThursday\, Dec. 8th \n5:30pm til 7:30pm
URL:https://framecenter.com/event/drawn-out/
LOCATION:Hingham Library’s Dolphin and Clemens Gallery\, 66 Leavitt Street\, Hingham\, MA\, United States
ATTACH;FMTTYPE=image/png:https://framecenter.com/wp-content/uploads/2022/11/drawn-out.png
END:VEVENT
BEGIN:VEVENT
DTSTART;VALUE=DATE:20230101
DTEND;VALUE=DATE:20230201
DTSTAMP:20260421T192509
CREATED:20221214T185907Z
LAST-MODIFIED:20260304T195449Z
UID:10001957-1672531200-1675209599@framecenter.com
SUMMARY:Photographs of the Northeast & Southwest
DESCRIPTION:Photographs\n of the\nNortheast & Southeast\nby Ted Walker\nStop in and view Ted’s pieces at the John Curtis Free Library in Hanover \nUp for the entire month of January 2023 \nAll Pieces are available for purchase \n 
URL:https://framecenter.com/event/photographs-of-the-northeast-southwest/
LOCATION:John Curtis Free Library\, 534 Hanover Street\, Hanover\, MA\, 02339\, United States
ATTACH;FMTTYPE=image/jpeg:https://framecenter.com/wp-content/uploads/2022/12/ted-walker.jpg
END:VEVENT
END:VCALENDAR