BEGIN:VCALENDAR
VERSION:2.0
PRODID:-//Frame Center - ECPv6.2.9//NONSGML v1.0//EN
CALSCALE:GREGORIAN
METHOD:PUBLISH
X-WR-CALNAME:Frame Center
X-ORIGINAL-URL:https://framecenter.com
X-WR-CALDESC:Events for Frame Center
REFRESH-INTERVAL;VALUE=DURATION:PT1H
X-Robots-Tag:noindex
X-PUBLISHED-TTL:PT1H
BEGIN:VTIMEZONE
TZID:America/New_York
BEGIN:DAYLIGHT
TZOFFSETFROM:-0500
TZOFFSETTO:-0400
TZNAME:EDT
DTSTART:20230312T070000
END:DAYLIGHT
BEGIN:STANDARD
TZOFFSETFROM:-0400
TZOFFSETTO:-0500
TZNAME:EST
DTSTART:20231105T060000
END:STANDARD
END:VTIMEZONE
BEGIN:VEVENT
DTSTART;TZID=America/New_York:20230331T120000
DTEND;TZID=America/New_York:20230430T160000
DTSTAMP:20260419T225356
CREATED:20230322T182917Z
LAST-MODIFIED:20230322T182917Z
UID:10001962-1680264000-1682870400@framecenter.com
SUMMARY:"Mapping My DNA" by Annee Spileos Scott
DESCRIPTION:Galeta Fine Arts presents \nAnnee Spileos Scott \n“Mapping My DNA”\nMarch 31st through April 30th\, 2023\nwith an opening reception on\nApril 7th\, 6-8pm\nwith a Gallery Talk on April 30th at 1pm
URL:https://framecenter.com/event/mapping-my-dna-by-annee-spileos-scott/
LOCATION:Galatea Fine Arts\, 460B Harrison Avenue\, B-6\, Boston\, MA\, 02118\, United States
ATTACH;FMTTYPE=image/jpeg:https://framecenter.com/wp-content/uploads/2023/03/Annee-Scott-scaled.jpg
END:VEVENT
BEGIN:VEVENT
DTSTART;TZID=America/New_York:20230402T130000
DTEND;TZID=America/New_York:20230827T160000
DTSTAMP:20260419T225356
CREATED:20230810T170500Z
LAST-MODIFIED:20230810T170500Z
UID:10002016-1680440400-1693152000@framecenter.com
SUMMARY:Duxbury Art Complex presents "TAG"
DESCRIPTION:TAG: Contemporary Painters\n\nApril 2 – August 27\, 2023\nReception: May 21\, 2023\, 1:00 – 4:00 pm \nFor this exhibition\, we began by asking artist Carol O’Malia to be in the show. She then asked another painter to be in the show. That painter then chose another painter\, etc. Hence the name “Tag.”  The artists picked friends\, studio mates\, former classmates\, and other artists whose work they admired. Like a game of tag there were not many rules\, other than being based in New England\, and even that rule was bent. \nThe result is an organically grown exhibition with a wide-ranging view.  Artists in the exhibition include Angela Godoy\, Kevin Kearns\, Chil Mott\, Richard Neal\, Carol O’Malia\, Tula Telfair\, Peter Waite\, and Gina Volpe. \nShown: Chil Mott\, Untitled #17\, from the Sill Life series\, 2018\, oil on board
URL:https://framecenter.com/event/duxbury-art-complex-presents-tag/
LOCATION:The Art Complex Museum\, 189 Alden Street\, Duxbury\, 02332\, United States
ATTACH;FMTTYPE=image/jpeg:https://framecenter.com/wp-content/uploads/2023/08/chil_mott_sill_life_number_17-600x600-1.jpeg
END:VEVENT
BEGIN:VEVENT
DTSTART;TZID=America/New_York:20230429T120000
DTEND;TZID=America/New_York:20230430T170000
DTSTAMP:20260419T225356
CREATED:20230325T202548Z
LAST-MODIFIED:20230325T202548Z
UID:10001975-1682769600-1682874000@framecenter.com
SUMMARY:4th Floor Artists presents 2023's Open Studios and Art Fair
DESCRIPTION:
URL:https://framecenter.com/event/4th-floor-artists-presents-2023s-open-studios-and-art-fair/
LOCATION:4th Floor Artists – Sandpaper Factory\, Sandpaper Factory 83 E Water street\, rockland\, MA\, 02370\, United States
ATTACH;FMTTYPE=image/jpeg:https://framecenter.com/wp-content/uploads/2023/03/springOS23_8-5x11-Flyer.jpg
END:VEVENT
END:VCALENDAR