BEGIN:VCALENDAR
VERSION:2.0
PRODID:-//Frame Center - ECPv6.2.9//NONSGML v1.0//EN
CALSCALE:GREGORIAN
METHOD:PUBLISH
X-ORIGINAL-URL:https://framecenter.com
X-WR-CALDESC:Events for Frame Center
REFRESH-INTERVAL;VALUE=DURATION:PT1H
X-Robots-Tag:noindex
X-PUBLISHED-TTL:PT1H
BEGIN:VTIMEZONE
TZID:America/New_York
BEGIN:DAYLIGHT
TZOFFSETFROM:-0500
TZOFFSETTO:-0400
TZNAME:EDT
DTSTART:20230312T070000
END:DAYLIGHT
BEGIN:STANDARD
TZOFFSETFROM:-0400
TZOFFSETTO:-0500
TZNAME:EST
DTSTART:20231105T060000
END:STANDARD
END:VTIMEZONE
BEGIN:VEVENT
DTSTART;TZID=America/New_York:20230402T130000
DTEND;TZID=America/New_York:20230827T160000
DTSTAMP:20260422T193718
CREATED:20230810T170500Z
LAST-MODIFIED:20230810T170500Z
UID:10002016-1680440400-1693152000@framecenter.com
SUMMARY:Duxbury Art Complex presents "TAG"
DESCRIPTION:TAG: Contemporary Painters\n\nApril 2 – August 27\, 2023\nReception: May 21\, 2023\, 1:00 – 4:00 pm \nFor this exhibition\, we began by asking artist Carol O’Malia to be in the show. She then asked another painter to be in the show. That painter then chose another painter\, etc. Hence the name “Tag.”  The artists picked friends\, studio mates\, former classmates\, and other artists whose work they admired. Like a game of tag there were not many rules\, other than being based in New England\, and even that rule was bent. \nThe result is an organically grown exhibition with a wide-ranging view.  Artists in the exhibition include Angela Godoy\, Kevin Kearns\, Chil Mott\, Richard Neal\, Carol O’Malia\, Tula Telfair\, Peter Waite\, and Gina Volpe. \nShown: Chil Mott\, Untitled #17\, from the Sill Life series\, 2018\, oil on board
URL:https://framecenter.com/event/duxbury-art-complex-presents-tag/
LOCATION:The Art Complex Museum\, 189 Alden Street\, Duxbury\, 02332\, United States
ATTACH;FMTTYPE=image/jpeg:https://framecenter.com/wp-content/uploads/2023/08/chil_mott_sill_life_number_17-600x600-1.jpeg
END:VEVENT
BEGIN:VEVENT
DTSTART;TZID=America/New_York:20230701T000000
DTEND;TZID=America/New_York:20230831T235959
DTSTAMP:20260422T193718
CREATED:20230805T164436Z
LAST-MODIFIED:20230805T164436Z
UID:10002003-1688169600-1693526399@framecenter.com
SUMMARY:Between Earth and Sky
DESCRIPTION:The Helen Bumpus Gallery presents\nBetween Earth and Sky\nSoft Pastels by\nDonn Rossetti-Bailey\nArtist Statement\nThe wonder of nature and the seasons\, the weather\, the ocean\, and the transitions of our beautiful landscape have always been an inspiration for my artwork. I love the vistas and tucked away places I discover along roads less traveled. I am especially moved by those places where air\, water and earth meet and those moments when nature blesses us with visual and spiritual images that take our breath away…the rising of the sun\, snow flakes falling from the heavens\, the crashing of waves during a storm or their soft lapping of the shoreline on a calm summer morning. They remind us of the power and beauty of nature and the importance of appreciating the world around us every day.  May you find joy in both the permanence and transience of Mother Nature. \n– Donna Rossetti-Bailey \n 
URL:https://framecenter.com/event/between-earth-and-sky/
LOCATION:Duxbury Free Library\, 77 Alden Street\, Duxbury\, MA\, 02231\, United States
ATTACH;FMTTYPE=image/jpeg:https://framecenter.com/wp-content/uploads/2023/08/rossettibailey-eveningspromise-800-600-100.jpeg
END:VEVENT
BEGIN:VEVENT
DTSTART;TZID=America/New_York:20230711T000000
DTEND;TZID=America/New_York:20230930T235959
DTSTAMP:20260422T193718
CREATED:20230805T165428Z
LAST-MODIFIED:20230805T165428Z
UID:10002004-1689033600-1696118399@framecenter.com
SUMMARY:"Rooted"
DESCRIPTION:Artist Reception on September 17th from 3 to 5 pm
URL:https://framecenter.com/event/rooted/
LOCATION:South Shore Conservatory\, 1 Conservatory Dr\, Hingham\, MA\, United States
ATTACH;FMTTYPE=image/jpeg:https://framecenter.com/wp-content/uploads/2023/08/IMG_4749.jpg
END:VEVENT
BEGIN:VEVENT
DTSTART;TZID=America/New_York:20230803T100000
DTEND;TZID=America/New_York:20230902T160000
DTSTAMP:20260422T193718
CREATED:20230803T175959Z
LAST-MODIFIED:20230803T175959Z
UID:10001979-1691056800-1693670400@framecenter.com
SUMMARY:Blue Ribbon Show at SSAC
DESCRIPTION:
URL:https://framecenter.com/event/blue-ribbon-show-at-ssac/
LOCATION:Bancroft Gallery\, 119 Ripley Rd\, Cohasset\, MA\, United States
ATTACH;FMTTYPE=image/png:https://framecenter.com/wp-content/uploads/2023/08/IMG_7468.png
END:VEVENT
BEGIN:VEVENT
DTSTART;TZID=America/New_York:20230804T000000
DTEND;TZID=America/New_York:20230804T235959
DTSTAMP:20260422T193718
CREATED:20230803T191245Z
LAST-MODIFIED:20230803T191245Z
UID:10001981-1691107200-1691193599@framecenter.com
SUMMARY:Scituate Harbor First Fridays
DESCRIPTION:On the First Friday of each month the lights are on late\, as Scituate Harbor shopkeepers keep their doors open and host special events with music\, authors\, musicians\, and more. First Friday Nights are a true celebration of the vibrant Harbor community\, and we look forward to seeing you there!
URL:https://framecenter.com/event/scituate-harbor-first-fridays/
LOCATION:MA
ATTACH;FMTTYPE=image/jpeg:https://framecenter.com/wp-content/uploads/2023/08/First-Friday-Scituate.jpeg
END:VEVENT
BEGIN:VEVENT
DTSTART;TZID=America/New_York:20230804T170000
DTEND;TZID=America/New_York:20230804T200000
DTSTAMP:20260422T193718
CREATED:20230803T201131Z
LAST-MODIFIED:20230803T201131Z
UID:10001983-1691168400-1691179200@framecenter.com
SUMMARY:Plymouth First Fridays
DESCRIPTION:Plymouth First Fridays\nEVERY FIRST FRIDAY\, 5 PM – 8 PM\n\nOn the First Friday of every month\, the artists\, galleries\, shops and showrooms of the Plymouth Bay Cultural District open their doors to the public for an evening of art\, culture and inspiration. Meet the artists in their element\, view the latest gallery exhibitions\, shop small\, and dine at one of Plymouth’s world-class restaurants.\nFirst Fridays Plymouth are family friendly and free. Plenty of parking is available. View our calendar for more details.
URL:https://framecenter.com/event/plymouth-first-fridays/
LOCATION:MA
ATTACH;FMTTYPE=image/png:https://framecenter.com/wp-content/uploads/2023/08/Screen-Shot-2023-08-03-at-4.08.29-PM.png
END:VEVENT
BEGIN:VEVENT
DTSTART;TZID=America/New_York:20230804T170000
DTEND;TZID=America/New_York:20230804T210000
DTSTAMP:20260422T193718
CREATED:20230803T210421Z
LAST-MODIFIED:20230803T210421Z
UID:10001995-1691168400-1691182800@framecenter.com
SUMMARY:SoWa Boston First Fridays
DESCRIPTION:EVERY FIRST FRIDAY\, 5 PM – 9 PM\n450 + 460 HARRISON\nOn the First Friday of every month\, the artists\, galleries\, shops and showrooms of the SoWa Art + Design District in the South End open their doors to the public for an evening of art\, culture and inspiration. Meet the artists in their element\, view the latest gallery exhibitions\, shop small\, and dine at one of SoWa’s world-class restaurants. \nSowa First Fridays are family friendly and free. Plenty of parking is available.
URL:https://framecenter.com/event/sowa-boston-first-fridays/
LOCATION:Sowa Boston\, 450 Harrison Ave\, Boston\, MA\, 02118\, United States
ATTACH;FMTTYPE=image/jpeg:https://framecenter.com/wp-content/uploads/2023/08/artist-studios.jpeg
END:VEVENT
END:VCALENDAR