BEGIN:VCALENDAR
VERSION:2.0
PRODID:-//Frame Center - ECPv6.2.9//NONSGML v1.0//EN
CALSCALE:GREGORIAN
METHOD:PUBLISH
X-WR-CALNAME:Frame Center
X-ORIGINAL-URL:https://framecenter.com
X-WR-CALDESC:Events for Frame Center
REFRESH-INTERVAL;VALUE=DURATION:PT1H
X-Robots-Tag:noindex
X-PUBLISHED-TTL:PT1H
BEGIN:VTIMEZONE
TZID:America/New_York
BEGIN:DAYLIGHT
TZOFFSETFROM:-0500
TZOFFSETTO:-0400
TZNAME:EDT
DTSTART:20230312T070000
END:DAYLIGHT
BEGIN:STANDARD
TZOFFSETFROM:-0400
TZOFFSETTO:-0500
TZNAME:EST
DTSTART:20231105T060000
END:STANDARD
BEGIN:DAYLIGHT
TZOFFSETFROM:-0500
TZOFFSETTO:-0400
TZNAME:EDT
DTSTART:20240310T070000
END:DAYLIGHT
BEGIN:STANDARD
TZOFFSETFROM:-0400
TZOFFSETTO:-0500
TZNAME:EST
DTSTART:20241103T060000
END:STANDARD
END:VTIMEZONE
BEGIN:VEVENT
DTSTART;VALUE=DATE:20230820
DTEND;VALUE=DATE:20231106
DTSTAMP:20260422T190853
CREATED:20230826T154258Z
LAST-MODIFIED:20260304T231629Z
UID:10002023-1692489600-1699228799@framecenter.com
SUMMARY:"Unsettled Pieces"
DESCRIPTION:Visit the Duxbury Art Complex Museum to view\n“Unsettled Pieces”\n  \nAugust 20 – November 5\, 2023\nReception: August 20\, 2023\, 1:00 – 4:00 pm\nThree artists have chosen mosaic as the common language to explore issues affecting the planet\, each in her own style.\nDebora Aldo uses her signature material—pebbles—along with up-cycled contemporary materials\, to infuse her lines with meaning. Nikki Sullivan and Anabella Wewer both use classical andamento to form their lines\, but Nikki often uses a large found object as her focal point\, while Anabella breaks down uncommon materials into regularly sized tesserae.\nEach artist has embraced one or more topics within our changing world\, and brought to it the unusual and uncommon set of skills that it takes to create a mosaic.\n\n*Closed Mondays\, Tuesdays\, and Major Holidays – Open Wednesday through Sunday from 1pm to 4pm*
URL:https://framecenter.com/event/unsettled-pieces/
LOCATION:The Art Complex Museum\, 189 Alden Street\, Duxbury\, 02332\, United States
ATTACH;FMTTYPE=image/jpeg:https://framecenter.com/wp-content/uploads/2023/08/Mosaic-Bird.jpeg
END:VEVENT
BEGIN:VEVENT
DTSTART;TZID=America/New_York:20230916T000000
DTEND;TZID=America/New_York:20231113T235959
DTSTAMP:20260422T190853
CREATED:20230913T173738Z
LAST-MODIFIED:20230913T173738Z
UID:10002061-1694822400-1699919999@framecenter.com
SUMMARY:"The Beauty of Nature"
DESCRIPTION:Hull Public Library presents\n“The Beauty of Nature”\nSeptember 6 -November 13\nSee Libraries hours for viewing times
URL:https://framecenter.com/event/the-beauty-of-nature/
LOCATION:Hull Public Library\, 9 Main Street\, Hull\, MA\, United States
ATTACH;FMTTYPE=image/jpeg:https://framecenter.com/wp-content/uploads/2023/09/library-fall-2023-scaled-1.jpeg
ORGANIZER;CN="Hull Artists":MAILTO:info@hullartists.com
END:VEVENT
BEGIN:VEVENT
DTSTART;TZID=America/New_York:20230917T130000
DTEND;TZID=America/New_York:20240114T160000
DTSTAMP:20260422T190853
CREATED:20230907T203652Z
LAST-MODIFIED:20230907T203652Z
UID:10002041-1694955600-1705248000@framecenter.com
SUMMARY:50/50: Fifty Years of Collecting Art
DESCRIPTION:50/50: Fifty Years of Collecting Art\nSeptember 17\, 2023 – January 14\, 2024\nReception: November 12\, 2023\, 1:00 – 4:00 pm \nIn continued celebration of the Art Complex Museum’s fiftieth anniversary\, this exhibit examines the museum’s expanding permanent collection\, amassed since its founding in 1971. Assembled after the museum opened\, these art works reflect the collecting interests of founders Carl and Edith Weyerhaeuser\, along with museum directors and curators as the ACM builds for the future.
URL:https://framecenter.com/event/50-50-fifty-years-of-collecting-art/
LOCATION:The Art Complex Museum\, 189 Alden Street\, Duxbury\, 02332\, United States
ATTACH;FMTTYPE=image/jpeg:https://framecenter.com/wp-content/uploads/2023/09/Bracket_2015_resized72dpi-600x344-1.jpeg
END:VEVENT
BEGIN:VEVENT
DTSTART;TZID=America/New_York:20230930T000000
DTEND;TZID=America/New_York:20231130T235959
DTSTAMP:20260422T190853
CREATED:20230927T151032Z
LAST-MODIFIED:20230927T151032Z
UID:10002083-1696032000-1701388799@framecenter.com
SUMMARY:"Nourishing Light" by Donna Haig Freedman
DESCRIPTION:
URL:https://framecenter.com/event/nourishing-light-by-donna-haig-freedman/
LOCATION:Ventress Memorial Library\, 1837 Ocean Street/route 139\, Marshfield\, 02050\, United States
ATTACH;FMTTYPE=image/jpeg:https://framecenter.com/wp-content/uploads/2023/09/DonnaFriedman_September2023_Poster.jpg
END:VEVENT
BEGIN:VEVENT
DTSTART;TZID=America/New_York:20231003T000000
DTEND;TZID=America/New_York:20231104T235959
DTSTAMP:20260422T190853
CREATED:20231011T202108Z
LAST-MODIFIED:20231011T202108Z
UID:10002101-1696291200-1699142399@framecenter.com
SUMMARY:"Nature Observed" a show by Kay Kopper
DESCRIPTION:
URL:https://framecenter.com/event/nature-observed-a-show-by-kay-kopper/
LOCATION:Pembroke Public Library\, 142 Center Street\, Pembroke\, United States
ATTACH;FMTTYPE=image/jpeg:https://framecenter.com/wp-content/uploads/2023/09/2023-exhibit-kay-kopper-8.5x11.jpg
END:VEVENT
BEGIN:VEVENT
DTSTART;TZID=America/New_York:20231007T000000
DTEND;TZID=America/New_York:20231107T235959
DTSTAMP:20260422T190853
CREATED:20230927T152451Z
LAST-MODIFIED:20230927T152451Z
UID:10002084-1696636800-1699401599@framecenter.com
SUMMARY:"Searching for the Light" by Erin Donnellan Kroninger
DESCRIPTION:The Art of Erin Donnellan Kroninger: Searching for the Light\nOn Display from October 7 – November 3 \nPlease join the artist for a reception on October 14th from 2:30 – 4:00 \nAbout the Artist:\nI find my inspiration in nature – the infinite range of colors\, lines\, shapes and atmosphere. As I study a scene\, my attention is always drawn to light and its effects. I strive to capture the luminosity in a variety of ways. As I paint\, I build the surface of my work by applying multiple layers of oil paint (and sometimes cold wax)\, retaining previous marks and colors\, while leaving trace results of others\, or obscuring them altogether. My approach strives to create a depth and history which results in a complex and nuanced surface of color\, harmony and balance. \nThis Event is made possible by the North River Arts Society
URL:https://framecenter.com/event/searching-for-the-light-by-erin-donnellan-kroninger/
LOCATION:Hingham Library’s Dolphin and Clemens Gallery\, 66 Leavitt Street\, Hingham\, MA\, United States
ATTACH;FMTTYPE=image/jpeg:https://framecenter.com/wp-content/uploads/2023/09/EDK.Dolphin.poster.jpeg
END:VEVENT
BEGIN:VEVENT
DTSTART;TZID=America/New_York:20231012T000000
DTEND;TZID=America/New_York:20231223T235959
DTSTAMP:20260422T190853
CREATED:20231011T171044Z
LAST-MODIFIED:20231011T171044Z
UID:10002102-1697068800-1703375999@framecenter.com
SUMMARY:Holiday Small Works 2023 Upcoming Exhibition
DESCRIPTION:Upper and Lower GalleriesOctober 12 – December 23\, 2023 \nFrom October 12 through December 23\, 2023\, the Copley Society of Art presents Co|So Artists’ Holiday Small Works 2023\, appearing in both the Upper and Lower Galleries. The show features work from our membership of over 300 artists and is easily one of Co|So’s most eagerly anticipated exhibitions each year. \nPlease join us in the gallery for the opening reception: October 19th from 4pm-6pm.
URL:https://framecenter.com/event/holiday-small-works-2023-upcoming-exhibition/
LOCATION:Copley Society of Art\, 158 Newbury Street\, Boston\, MA\, 02116\, United States
ATTACH;FMTTYPE=image/jpeg:https://framecenter.com/wp-content/uploads/2023/10/Copley-Society-Holiday-Show.jpeg
ORGANIZER;CN="Copley Society of Art":MAILTO:info@copleysociety.org
END:VEVENT
BEGIN:VEVENT
DTSTART;TZID=America/New_York:20231025T000000
DTEND;TZID=America/New_York:20231203T235959
DTSTAMP:20260422T190853
CREATED:20230927T204134Z
LAST-MODIFIED:20230927T204134Z
UID:10002100-1698192000-1701647999@framecenter.com
SUMMARY:"Young @ Art '23"
DESCRIPTION:Young @ Art 2023\n\n\n\n\nPlymouth Center for the Arts invites artists\, ages 6 – 18\, to submit their original artwork\, in any medium\, into our annual youth art competition and exhibit. This year’s exhibit will hang in the gallery for 5 weeks\, which will provide more opportunity for family and friends to visit our gallery and enjoy the exhibit. \nThis is an open themed show. Plymouth Center for the Arts membership is not required. \nAwards:\nBest in Show\n1st\, 2nd and 3rd place awards in the following age divisions: 6-10\, 11-13 and 14-18. \nArtists must be 6-18 years of age at the time of the exhibit. Artwork must have been completed within the last 12 months and cannot have been submitted in a previous Young @ Art exhibit. \nArtists are allowed up to two entries at a cost of $5 per entry. \nPre-registration can be completed online\, via our website\, or in person during the drop off. Online registration is encouraged to reduce wait time during the drop off periods \n\n\n\nImportant Dates and Information:\n\n\n\n\n\n\nPlease review prospectus for all exhibit details including artwork display specifics. \nREGISTRATION – \nPre-register online via our website from September 27 – Oct 18. \nArtists are allowed up to two entries for $5 per entry. \nYou may also register in person\, during drop off. If you choose to register at drop off\, you may complete the registration form (available above) in advance and bring it with you. \nDROP OFF – \nPlease drop off artwork on the following days/times: \nSunday\, October 22nd\, 4 – 7 pm \nMonday\, October 23rd\, 8 – 10am \nIf you are unable to drop off during these times\, please Contact Us to request an alternate drop off time. \nOPENING RECEPTION – \nSaturday\, October 28th\, 4 – 6 pm \nFree Admission.  Open to the public. Light refreshments will be served. \nAFTER SHOW PICK-UP –  \nSunday\, December 3rd\, 4 – 7pm \nMonday\, December 4th\, 8 – 10am \nArtwork that cannot be picked up during these times can be retrieved the following week during our normal business hours. \n\n\n\n\n 
URL:https://framecenter.com/event/young-art-23/
LOCATION:Plymouth Center for the Arts\, 11 North Street\, Plymouth\, MA\, 02360\, United States
ATTACH;FMTTYPE=image/webp:https://framecenter.com/wp-content/uploads/2023/09/Y@A-3x4-Website-JPG_1694635027.jpg.webp
END:VEVENT
BEGIN:VEVENT
DTSTART;TZID=America/New_York:20231030T000000
DTEND;TZID=America/New_York:20231110T235959
DTSTAMP:20260422T190853
CREATED:20231026T212931Z
LAST-MODIFIED:20231026T212931Z
UID:10002124-1698624000-1699660799@framecenter.com
SUMMARY:Frame Center Gallery Holiday Show Drop Off
DESCRIPTION:  \n  \n  \n Right click with Mouse or Use two fingers on your Mac Track Pad on the text below to save the form and print your own from home.\n  \n  \n  \n 
URL:https://framecenter.com/event/frame-center-gallery-holiday-show-drop-off/
LOCATION:Frame Center Hanover\, 152 Rockland Street\, Hanover\, MA\, 02339\, United States
ATTACH;FMTTYPE=image/jpeg:https://framecenter.com/wp-content/uploads/2023/10/Holiday-Show-poster-2023-Top-section-scaled.jpg
END:VEVENT
BEGIN:VEVENT
DTSTART;TZID=America/New_York:20231102T000000
DTEND;TZID=America/New_York:20231216T235959
DTSTAMP:20260422T190853
CREATED:20231025T170357Z
LAST-MODIFIED:20231025T170357Z
UID:10002121-1698883200-1702771199@framecenter.com
SUMMARY:"Points of Departure"
DESCRIPTION:Points of Departure – National Juried Exhibition\nJuried by Dina Dietsch\, Director and Curator\nTufts University Art Galleries\nNovember 2 – December 16\, 2023 \n\nOPENING RECEPTION: November 2\, 6-8 pm\nAWARDS GIVEN BY THE JUROR: \n  \nFIRST PRIZE \nGail Nathanson\nWhat Does it Mean? \n  \nSECOND PRIZE \nC. J. Lori \nThe Green Leaves in Summer \n  \nTHIRD PRIZE\nNancy Colella \nMorning Meditation \n  \nHONORABLE MENTIONS:\nJan McElhinny\, Converging \nEdward Shmunes\, Next \nMarie Peters\, Bones \n 
URL:https://framecenter.com/event/points-of-departure/
LOCATION:SSAC\, 119 Ripley Rd\, Cohasset\, MA\, United States
ATTACH;FMTTYPE=image/jpeg:https://framecenter.com/wp-content/uploads/2023/10/MnPg211x662_Competitions-Points-of-Departure.jpeg
END:VEVENT
END:VCALENDAR