BEGIN:VCALENDAR
VERSION:2.0
PRODID:-//Frame Center - ECPv6.2.9//NONSGML v1.0//EN
CALSCALE:GREGORIAN
METHOD:PUBLISH
X-ORIGINAL-URL:https://framecenter.com
X-WR-CALDESC:Events for Frame Center
REFRESH-INTERVAL;VALUE=DURATION:PT1H
X-Robots-Tag:noindex
X-PUBLISHED-TTL:PT1H
BEGIN:VTIMEZONE
TZID:America/New_York
BEGIN:DAYLIGHT
TZOFFSETFROM:-0500
TZOFFSETTO:-0400
TZNAME:EDT
DTSTART:20240310T070000
END:DAYLIGHT
BEGIN:STANDARD
TZOFFSETFROM:-0400
TZOFFSETTO:-0500
TZNAME:EST
DTSTART:20241103T060000
END:STANDARD
END:VTIMEZONE
BEGIN:VEVENT
DTSTART;TZID=America/New_York:20240106T000000
DTEND;TZID=America/New_York:20240224T235959
DTSTAMP:20260425T083327
CREATED:20231220T223318Z
LAST-MODIFIED:20231220T223318Z
UID:10002157-1704499200-1708819199@framecenter.com
SUMMARY:Jack Haran and His Students Show
DESCRIPTION:North River Arts Society is proud to present “Jack Haran and His Students\,” at the Horan Gallery at Ventress Memorial Library in Marshfield. Please join us on Friday\, January 12\, 5:30-7:30PM for the Opening Reception. \n  \nGenevieve Davis worked for 50 years in the financial management of nonprofit corporations.  Now retired from that\, she is starting her second career as an artist\, the discipline she was originally trained in.” \n  \nSkip DeBrusk is an ardent fisherman who spends far too much time chasing cod\, tuna\, stripers and sharks on Stellwagen Bank\, consequently his paintings reflect a lifelong interest in marine and nautical painting.  He is fortunate to have had many great teachers including Joanne Papandrea\, Nancy Howell and Jack Haran.  Many of his paintings lean towards the oriental and reflect a large expanse of white paper allowing the viewer to actively participate by filling in their own sense of mystery.   \n  \nClaire Gagnon \nClaire Gagnon is an acrylic painter with an impressionistic/realistic style.  Since 2018\, Claire has been teaching at Chez Claire Art School in Lowell\, MA.  Dynamic and award-winning\, she has more than 25 years’ experience painting with acrylics.  She started painting in 1996 in Montreal\, Quebec.  Studying for four years with Micheline Raymond\, an award winning artist\, and founder of the Creative Art Gallery and School in Montreal. Www.chezclaireartschool.com \n  \nPaul A. Goes Born in Providence\, RI. A graduate of the Vesper George School of Art\, Boston\, MA. where he studied Art\, Design & Illustration. Paul worked for a variety of Design ­rms in and around the Providence\, RI area as a Designer/Illustrator and Creative Director\, later working in house designing toys at Hasbro. For the next 20 years Paul worked as an independent design contractor @ Gostudio. After moving to Hull\, Massachusetts in 2011 Paul spends his free time creating\, sketching and painting watercolors at his home studio in Hull\, MA. You can see more of Paul’s art works on Instagram: @highlandarts \n  \nJack Haran is the past president of the New England Watercolor Society (NEWS) and past President of North River Arts Society (NRAS).  He earned a BS in Fine Arts from Northeastern University and a School of the Museum of Fine Arts Diploma.  He has studied with Tony Van Hasselt and Judi Wagner\, Zygmond Jankowski\, John Kilroy\, Alvaro Castagnet and Joseph Zbukvic. \n  \nScott Ketcham is a prolific and evolving painter with over 30 years experience. He is a Professor of Visual Arts at Massasoit Community College. He hold a BA from Williams College and an MFA from Johnson State College\, and has been a pupil of William Schultz\, Robert Brackman\, Clement Micarrelli\, Andrew McMillan\, Jack Haran\, and Douglas Kornfeld. He paints out of his studio in Rockland Mass and holds many workshops and seminars on painting the figure. If you are interested in attending uninstructed figure workshops\, please contact me at scottwketcham@comcast.net \n  \nMolly Schnabel has been drawing her whole life but started her serious study at Endicott Junior College in the field of Interior Design. Fine Arts studies continued at Northeastern University where she received a degree in Fine Arts. Her career took her away from the arts but she has resumed her art work in retirement.  She feels fortunate to have had instruction with Donald Dacier\, Marian Carlson\, Jack Haran and Steve Sheffield.
URL:https://framecenter.com/event/jack-haran-and-his-students-show/
LOCATION:Ventress Memorial Library\, 1837 Ocean Street/route 139\, Marshfield\, 02050\, United States
ATTACH;FMTTYPE=image/jpeg:https://framecenter.com/wp-content/uploads/2023/12/IMG_5576-scaled.jpg
END:VEVENT
BEGIN:VEVENT
DTSTART;TZID=America/New_York:20240112T000000
DTEND;TZID=America/New_York:20240322T235959
DTSTAMP:20260425T083327
CREATED:20240208T201632Z
LAST-MODIFIED:20240208T201632Z
UID:10002202-1705017600-1711151999@framecenter.com
SUMMARY:'Structure"
DESCRIPTION:The Hull Artists presents\n“Structure”\n\nHull Public Library\n9 Main Street\, Hull\, MA \, 2nd\, floor \n\n\n\n\n\nThe Hull Public Library (9 Main St.\, Hull\, MA) has opened its doors to HA Artists with a beautiful exhibition space on the 2nd floor.   Skip Tull is the Curator of this space.  Our Latest exhibition is “Structure”\, exhibiting the following artists: Joan Appel\, Bart Blumberg\, Desiree Connolly\, Donna Goes\, Paul Goes\, Susan Hagstrom\, Virginia Holloway\, David Holt\, Jennifer McCarthy\, Skip Tull\, Sandra Weeks and Lara Williams.\nIt runs Jan 12. – Mar 22  Open during library hours. \n\nMonday 10-7\nTuesday 10-5\nWednesday\, 10-5\nThursday 10-7Friday 10-2\nSaturday 10-2\nSunday\, Closed.
URL:https://framecenter.com/event/structure/
LOCATION:Hull Public Library\, 9 Main Street\, Hull\, MA\, United States
ATTACH;FMTTYPE=image/jpeg:https://framecenter.com/wp-content/uploads/2024/02/Library-Structure-scaled-1.jpeg
ORGANIZER;CN="Hull Artists":MAILTO:info@hullartists.com
END:VEVENT
BEGIN:VEVENT
DTSTART;TZID=America/New_York:20240118T000000
DTEND;TZID=America/New_York:20240222T235959
DTSTAMP:20260425T083327
CREATED:20240208T203032Z
LAST-MODIFIED:20240208T203032Z
UID:10002203-1705536000-1708646399@framecenter.com
SUMMARY:"Winter Daydreams"
DESCRIPTION:The Hull Artists presents\n“Winter Daydreams”\n\nNantasket Beach Resort\n45 Hull Shore Drive\, Hull\, MA \nAn exhibit of Hull Artists Members called “Winter Daydreams” is hanging on along the side corridor\, off the reception area until March 14th.\nThe artists showing: \nJoan Appel\nBart Blumberg\nSusan Carol\nLeigh Champagne\nDesiree Connolly\nDavid Holt\nWhit Leffel\nIrwin Nesoff\nRita Walsh\nSandra Weeks\nWanda Willard
URL:https://framecenter.com/event/winter-daydreams/
LOCATION:Nantasket Beach Resort\, 45 Hull Shore Drive\, Hull\, MA\, United States
ATTACH;FMTTYPE=image/jpeg:https://framecenter.com/wp-content/uploads/2024/02/20240120_152332-01-scaled-1.jpeg
ORGANIZER;CN="Hull Artists":MAILTO:info@hullartists.com
END:VEVENT
BEGIN:VEVENT
DTSTART;TZID=America/New_York:20240124T000000
DTEND;TZID=America/New_York:20240221T235959
DTSTAMP:20260425T083327
CREATED:20240201T214147Z
LAST-MODIFIED:20240201T214147Z
UID:10002195-1706054400-1708559999@framecenter.com
SUMMARY:Call for Artists "iPhonography 2024 Show"
DESCRIPTION:Plymouth Center for the Arts\nCall for Art:\niPhonography 2024 Show\n\n\n\n\nMobile digital devices offer the opportunity for spontaneous photos\, an intuitive artistic workflow and a multitude of easily available creative applications. \nWe invite photographers of all ages to submit their best images in a truly distinctive photography exhibition. \nPlymouth Center for the Arts membership is not required for entry. \nThis is a Juried Show – The judge will select the top images from all registered entries.  These selections will be placed in an online gallery that will be viewable through our website. \nThe top five awarded images will be printed\, professionally framed* and exhibited in our galleries located in historic Plymouth\, MA\, from \nMarch 6 – April 7\, 2024. \nAwards – \nFirst place $100\, Second place $75\, Third place $50 \nTwo Honorable Mentions \nOur Judge: Jim Curran \n\nView and Download Prospectus Here if Intrested in Entry
URL:https://framecenter.com/event/call-for-artists-iphonography-2024-show/
LOCATION:Plymouth Center for the Arts\, 11 North Street\, Plymouth\, MA\, 02360\, United States
ATTACH;FMTTYPE=image/jpeg:https://framecenter.com/wp-content/uploads/2024/02/iPhono-3x4-JPG_1704204371.jpg
END:VEVENT
BEGIN:VEVENT
DTSTART;TZID=America/New_York:20240201T000000
DTEND;TZID=America/New_York:20240225T235959
DTSTAMP:20260425T083327
CREATED:20240208T200432Z
LAST-MODIFIED:20240208T200432Z
UID:10002201-1706745600-1708905599@framecenter.com
SUMMARY:"Fantasy Designs"
DESCRIPTION:
URL:https://framecenter.com/event/fantasy-designs/
LOCATION:Front Street Gallery\, 124 Front Street\, Scituate\, MA\, United States
ATTACH;FMTTYPE=image/jpeg:https://framecenter.com/wp-content/uploads/2024/02/Feb-2024-Fantasy-v1_0.jpg
ORGANIZER;CN="Scituate Arts Association":MAILTO:ScituateArtsAssociation@gmail.com
END:VEVENT
BEGIN:VEVENT
DTSTART;TZID=America/New_York:20240201T000000
DTEND;TZID=America/New_York:20240304T235959
DTSTAMP:20260425T083327
CREATED:20240207T210635Z
LAST-MODIFIED:20240207T210635Z
UID:10002199-1706745600-1709596799@framecenter.com
SUMMARY:SSAC Gallery SpotLIGHT - Moey Lane
DESCRIPTION:The South Shore Art Center presents\n Gallery SpotLight for Moey Lane\nViewable from February 1st through March 4th\n  \n    We’ve transformed our glass entryway into an exhibition space so our community can stay connected to the art center. Each month\, we’ll be highlighting the brilliant work of our Gallery Artists in a series of exhibitions. The works will be illuminated so everyone passing by can enjoy the art day or night. All artwork exhibited will be for sale and all sizes are unframed dimensions\n             
URL:https://framecenter.com/event/ssac-gallery-spotlight-moey-lane/
LOCATION:SSAC\, 119 Ripley Rd\, Cohasset\, MA\, United States
ATTACH;FMTTYPE=image/jpeg:https://framecenter.com/wp-content/uploads/2024/02/MLane-Bubalas-Door-W239.jpeg
END:VEVENT
BEGIN:VEVENT
DTSTART;TZID=America/New_York:20240204T000000
DTEND;TZID=America/New_York:20240414T235959
DTSTAMP:20260425T083327
CREATED:20231228T161350Z
LAST-MODIFIED:20231228T161350Z
UID:10002158-1707004800-1713139199@framecenter.com
SUMMARY:Duxbury Art Association Winter Juried Show
DESCRIPTION:February 4 – April 14\, 2024\nReception: February 18\, 2024\, 1:00 – 4:00 pm\n \nThe DAA’s annual winter show is one of the museum’s most popular\, showcasing works in all media. Artists enter online and guest curators create a show that is a survey of the art that is being created by contemporary artists today. As well as choosing the works to be included\, jurors award monetary prizes in a wide number of categories including “Best in Show.” \nShown: Vincent Crotty\, Liscannor Twilight\, (Detail)\, Oil on Panel\, Best in Show 2023
URL:https://framecenter.com/event/duxbury-art-association-winter-juried-show/
LOCATION:The Art Complex Museum\, 189 Alden Street\, Duxbury\, 02332\, United States
ATTACH;FMTTYPE=image/jpeg:https://framecenter.com/wp-content/uploads/2023/12/Vincent_Crotty-487837.1863158-600x398-1.jpeg
END:VEVENT
BEGIN:VEVENT
DTSTART;TZID=America/New_York:20240204T000000
DTEND;TZID=America/New_York:20240414T235959
DTSTAMP:20260425T083327
CREATED:20231228T222334Z
LAST-MODIFIED:20231228T222334Z
UID:10002159-1707004800-1713139199@framecenter.com
SUMMARY:Serigraphs by Edward Landon
DESCRIPTION:February 4 – April 14\, 2024\nReception: February 18\, 2024\, 1:00 – 4:00 pm\n \nConsidered one of the pioneers of serigraph or silk screen printing\, American artist Edward Landon (1911-1984) was among the founding members of the Silk Screen Group which later became the National Serigraph Society. The group exhibited internationally\, to highlight the creative possibilities of the medium. Landon exhibited at the Art Complex Museum in 1981\, and gave the museum one of his prints\, Land’s End\, at the close of the exhibit.  At two later dates\, more of his work came into the museum from a generous family member’s collection. \nSilk Screen printing was initially used only commercially when these experimental artists began using it to create fine art. Carl Zigrosser (1891-1975)\, curator for the Philadelphia Art Museum\, coined the term “serigraph” in order to differentiate between the commercial and fine art use of the printing process. “Seri” is a Latin word meaning “silk” and “graphos” is a Greek word meaning “to write.” \nShown: Edward Landon\, Web II\, (Detail)\, 1960\, serigraph
URL:https://framecenter.com/event/serigraphs-by-edward-landon/
LOCATION:The Art Complex Museum\, 189 Alden Street\, Duxbury\, 02332\, United States
ATTACH;FMTTYPE=image/jpeg:https://framecenter.com/wp-content/uploads/2023/12/Landon_ACM_97.10_SM-600x263-1.jpeg
END:VEVENT
BEGIN:VEVENT
DTSTART;TZID=America/New_York:20240207T000000
DTEND;TZID=America/New_York:20240313T235959
DTSTAMP:20260425T083327
CREATED:20240208T185704Z
LAST-MODIFIED:20240208T185704Z
UID:10002200-1707264000-1710374399@framecenter.com
SUMMARY:Scituate Arts Association 2024 Juried Art Show - Call For Artists!
DESCRIPTION:Scituate Arts Association’sAnnual Juried ShowCall for Artists for Online Entries\n\n\nThe Scituate Arts Association is proud to announce its Juried Show to be held at its Front Street Art Gallery from Friday\, April 5th through Sunday\, April 28th   Awards presentation by invitation will take place Friday evening\, April 19th  at 7:00 pm. \nOn-line Entry Only: Online entry opens on Wednesday\, February 7th and closes on Wednesday\, March 13.th   Accepted works will remain on display during Gallery hours through Sunday\, April 28.th    
URL:https://framecenter.com/event/scituate-arts-association-2024-juried-art-show-call-for-artists/
LOCATION:Front Street Gallery\, 124 Front Street\, Scituate\, MA\, United States
ATTACH;FMTTYPE=image/jpeg:https://framecenter.com/wp-content/uploads/2024/02/Scituate.jpeg
ORGANIZER;CN="Scituate Arts Association":MAILTO:ScituateArtsAssociation@gmail.com
END:VEVENT
BEGIN:VEVENT
DTSTART;TZID=America/New_York:20240214T100000
DTEND;TZID=America/New_York:20240306T160000
DTSTAMP:20260425T083327
CREATED:20240209T225555Z
LAST-MODIFIED:20240209T225555Z
UID:10002204-1707904800-1709740800@framecenter.com
SUMMARY:Michael Coyne "Elemental"
DESCRIPTION:
URL:https://framecenter.com/event/michael-coyne-elemental/
LOCATION:William Raveis Reality\, 515 Washington Street\, Norwell\, MA\, 02061\, United States
ATTACH;FMTTYPE=image/jpeg:https://framecenter.com/wp-content/uploads/2024/02/MicrosoftTeams-image.jpg
END:VEVENT
BEGIN:VEVENT
DTSTART;TZID=America/New_York:20240215T000000
DTEND;TZID=America/New_York:20240330T235959
DTSTAMP:20260425T083327
CREATED:20240215T183340Z
LAST-MODIFIED:20240215T183340Z
UID:10002217-1707955200-1711843199@framecenter.com
SUMMARY:"Object Lesson"
DESCRIPTION:South Shore Art Center presents\n“Object Lessons”\nCurated by Santiago Hernandez\nFeaturing work from Santiago Hernandez\, Paul Inglis\, Vanessa Irzyk\, Erica Licea Kane\, Matthew King\, and Julia Shepley \nJoin us for the opening reception to be among the first to see “Object Lessons” – Including works such as “Trickle\, Trickle\, Plop” by Vanessa Irzyk.  Reception is Thursday\, Feb 15th\, 6-8pm and is free and open to the public to attend.
URL:https://framecenter.com/event/object-lesson/
LOCATION:SSAC\, 119 Ripley Rd\, Cohasset\, MA\, United States
ATTACH;FMTTYPE=image/jpeg:https://framecenter.com/wp-content/uploads/2024/02/IMG_5823.jpg
END:VEVENT
BEGIN:VEVENT
DTSTART;TZID=America/New_York:20240218T000000
DTEND;TZID=America/New_York:20240505T235959
DTSTAMP:20260425T083327
CREATED:20231228T222833Z
LAST-MODIFIED:20231228T222833Z
UID:10002160-1708214400-1714953599@framecenter.com
SUMMARY:Zach Horn: Saturdays
DESCRIPTION:February 18 – May 5\, 2024\nReception: February 18\, 2024\, 1:00 – 4:00 pm\n \nIn Horn’s family\, they express emotions through what they cook. “I’m the short-order cook in our house\,” says Horn. “Part of the way I express love is through food. Pancakes on Saturday are statements. They are my way of saying\, ‘I love you’ and ‘I would do anything for you.’” \nMealtime is an artistic theme that goes back to Seurat and Manet\, and also to Poussin\, Lorraine\, and Titian. In this collection of works\, Horn wants to make the viewer the protagonist of the scene\, showing what a participant in a meal might see: a little food\, a little landscape. \nShown: Zach Horn\, Butter\, still from the video Saturdays\, 2023
URL:https://framecenter.com/event/zach-horn-saturdays/
LOCATION:The Art Complex Museum\, 189 Alden Street\, Duxbury\, 02332\, United States
ATTACH;FMTTYPE=image/jpeg:https://framecenter.com/wp-content/uploads/2023/12/Zach-Horn_Saturdays_Frame_Butter_SM.jpeg
END:VEVENT
BEGIN:VEVENT
DTSTART;TZID=America/New_York:20240221T000000
DTEND;TZID=America/New_York:20240320T235959
DTSTAMP:20260425T083327
CREATED:20240307T161612Z
LAST-MODIFIED:20240307T161612Z
UID:10002224-1708473600-1710979199@framecenter.com
SUMMARY:Call for Artists for "Visions"
DESCRIPTION:Call for Art:\nRegister Feb 21 – Mar 20th\n\n\n\n\nPlymouth Center of the Arts invites artists to participate in our early spring 2024 members-only show. \nThis is a non-themed and non-juried show. \nPlymouth Center for the Arts Exhibiting Membership is required and must continue for the duration  of the exhibit. \nClick Here to Join or Renew \nCategories: Painting\, photography\, drawing\, \nprintmaking\, pastel\, mixed-media\, fine crafts & sculpture \nAwards: \nFirst Prize – $100 & Ribbon \nSecond Prize – $50 & Ribbon \n2 Honorable Mention – Ribbo \n\n\n\n\n\nImportant Dates and Information:\n\n\n\n\n\n\n\n\n\n\n\n\n\nSmarter Entry: https://www.smarterentry.com/CallsForEntry\nSmarter Entry How to Guide: Click Here\nContact Us: Gallery@artsplymouth.org \nPlease review the prospectus for other important information relating to this exhibit. \nOnline registration – February 21 – March 20\, 2024 \n\nRegistration via Smarter Entry only: https://www.smarterentry.com/CallsForEntry#\n$15 for first entry\, $10 for second and third entry. (3 maximum per artist).\nArtworks must be listed for sale.\nSee complete registration and hanging specifications on the prospectus\nRefunds for entry fees will not be issued.\n\nDropoff – Sunday\, March 24 from 4 – 7pm and Monday\, March 25 from 8 – 10am \n\nThis is a non-juried show. Registered entries are considered accepted.* Artists will not be notified of acceptance into the show\,\nPlease deliver all pre-registered artwork during the designated drop off periods. If you are unable to drop off during these periods\, please Click Here prior to the above dates\, to request an alternative date/time.\nShipment of artwork is not allowed for this exhibit.\nRefunds will not be issued for artworks that is not dropped off.\n\nOpening Reception – Thursday\, March 28 from 6 – 8pm.  Free & open to the public. \nPickup – Sunday\, April 28 from 4 – 7pm & Monday\, April 29 from 8 – 10am\nIf you are unable to pick up your artwork during these time\, you may pick up the following week\, during our normal business hours.\nArtwork not retrieved within 60 days following the close of the show will become property of the Plymouth Center for the Arts. \n*Plymouth Center for the Arts has final discretion over artwork that will be displayed in the exhibit. \n\n\n\n\n\n\n\n\n\n 
URL:https://framecenter.com/event/call-for-artists-for-visions/
LOCATION:Plymouth Center for the Arts\, 11 North Street\, Plymouth\, MA\, 02360\, United States
ATTACH;FMTTYPE=image/jpeg:https://framecenter.com/wp-content/uploads/2024/03/VISIONS-3x4-WEB_1705949745.jpg
END:VEVENT
BEGIN:VEVENT
DTSTART;TZID=America/New_York:20240221T000000
DTEND;TZID=America/New_York:20240324T235959
DTSTAMP:20260425T083327
CREATED:20240112T164858Z
LAST-MODIFIED:20240112T164858Z
UID:10002181-1708473600-1711324799@framecenter.com
SUMMARY:"Abstractions"
DESCRIPTION:Plymouth Center for the Arts\nPresents\n“Abstractions”\nPlymouth Center for the Arts invites artists to participate in a unique exhibit that explores abstract art.   Experiment with your imagination to push the boundaries by exploring alternative or even accidental elements of an image.\n 
URL:https://framecenter.com/event/abstractions/
LOCATION:Plymouth Center for the Arts\, 11 North Street\, Plymouth\, MA\, 02360\, United States
ATTACH;FMTTYPE=image/jpeg:https://framecenter.com/wp-content/uploads/2024/01/Abstractions.jpg
END:VEVENT
END:VCALENDAR