BEGIN:VCALENDAR
VERSION:2.0
PRODID:-//Frame Center - ECPv6.2.9//NONSGML v1.0//EN
CALSCALE:GREGORIAN
METHOD:PUBLISH
X-ORIGINAL-URL:https://framecenter.com
X-WR-CALDESC:Events for Frame Center
REFRESH-INTERVAL;VALUE=DURATION:PT1H
X-Robots-Tag:noindex
X-PUBLISHED-TTL:PT1H
BEGIN:VTIMEZONE
TZID:America/New_York
BEGIN:DAYLIGHT
TZOFFSETFROM:-0500
TZOFFSETTO:-0400
TZNAME:EDT
DTSTART:20250309T070000
END:DAYLIGHT
BEGIN:STANDARD
TZOFFSETFROM:-0400
TZOFFSETTO:-0500
TZNAME:EST
DTSTART:20251102T060000
END:STANDARD
END:VTIMEZONE
BEGIN:VEVENT
DTSTART;TZID=America/New_York:20250101T000000
DTEND;TZID=America/New_York:20250228T235959
DTSTAMP:20260421T055113
CREATED:20241106T153105Z
LAST-MODIFIED:20241106T153105Z
UID:10002525-1735689600-1740787199@framecenter.com
SUMMARY:Things with Wings
DESCRIPTION:The Helen Bumpus Gallery presents\nThings and Wings\nTerri Nickerson and Steve Schroeder\n  \nThe Bumpus Gallery will feature two photographers for the months of January and February\, Terri Nickerson and Steve Schroeder.  Both Members of the Duxbury Camera Club\, these two artists share an interest in the winged creatures of nature.  This collaboration of over 20 pieces of Avian and Insect subjects will be on display during normal operating hours for the Library.  Monday – Thursday: 10:00 AM – 8:00 PM\,  Friday – Saturday 10:00 AM – 5:00 PM\, Sunday* 1:00 PM – 5:00 PM (*Winter hours only)
URL:https://framecenter.com/event/things-with-wings/
LOCATION:Duxbury Free Library\, 77 Alden Street\, Duxbury\, MA\, 02231\, United States
ATTACH;FMTTYPE=image/jpeg:https://framecenter.com/wp-content/uploads/2024/11/great-blue-heron-800-600-100.jpeg
END:VEVENT
BEGIN:VEVENT
DTSTART;TZID=America/New_York:20250104T000000
DTEND;TZID=America/New_York:20250227T235959
DTSTAMP:20260421T055113
CREATED:20241228T154600Z
LAST-MODIFIED:20241228T154600Z
UID:10002546-1735948800-1740700799@framecenter.com
SUMMARY:Six Degrees of Inspiration Group Watercolor Show
DESCRIPTION:Watercolors works by Maureen Brookfield\, Karen Dunderdale\, Janice Gallinger\, Becky Haletky\, Gayle A. Loik\, and Betty Rogers will be on display at the Dolphin Gallery at Hingham Public Library January 4 – February 27. Join us for the opening reception thursday\, January 9\, 5:30-7:30pm.
URL:https://framecenter.com/event/six-degrees-of-inspiration-group-watercolor-show/
LOCATION:Hingham Library’s Dolphin and Clemens Gallery\, 66 Leavitt Street\, Hingham\, MA\, United States
CATEGORIES:Local Shows
ATTACH;FMTTYPE=image/jpeg:https://framecenter.com/wp-content/uploads/2024/12/Six-Degrees.jpeg
END:VEVENT
BEGIN:VEVENT
DTSTART;TZID=America/New_York:20250108T000000
DTEND;TZID=America/New_York:20250314T235959
DTSTAMP:20260421T055113
CREATED:20250204T194315Z
LAST-MODIFIED:20250204T194315Z
UID:10002569-1736294400-1741996799@framecenter.com
SUMMARY:Land and Sea
DESCRIPTION:Now open! Savage Godfrey Gallery’s second exhibition Land + Sea. \nThe show features works by four regional artists: Susan Ahearn\, Michael Coyne\, Michele Lauriat\, and Aron Leaman. The exhibition runs through March 14th\, 2025. A reception will be held on Friday\, February 7th from 6-8 p.m. Please RSVP here. \n  \nSavage Godfrey Gallery is located at 693 Main Street\, Norwell\, MA. The Gallery shares a building and entrance with Coastal Chic Interiors. Gallery hours are Tuesdays 12 to 4 pm\, Wednesday through Friday from 10 to 4 pm or by appointment. \n 
URL:https://framecenter.com/event/land-and-sea/
LOCATION:Savage Godfrey Gallery\, 693 Main St\, Norwell\, MA\, 02061\, United States
CATEGORIES:Local Shows
ATTACH;FMTTYPE=image/jpeg:https://framecenter.com/wp-content/uploads/2025/02/IMG_7326.jpg
END:VEVENT
BEGIN:VEVENT
DTSTART;TZID=America/New_York:20250117T000000
DTEND;TZID=America/New_York:20250403T235959
DTSTAMP:20260421T055113
CREATED:20250131T225917Z
LAST-MODIFIED:20250131T225917Z
UID:10002564-1737072000-1743724799@framecenter.com
SUMMARY:Hull Artists presents "Flower Gardens"
DESCRIPTION:The Hull Artists have a new show hanging on the second floor of the Hull Public Library called “Flower Gardens”.  The show will be up from January 17th until April 3rd.
URL:https://framecenter.com/event/hull-artists-presents-flower-gardens/
LOCATION:John Curtis Free Library\, 534 Hanover Street\, Hanover\, MA\, 02339\, United States
CATEGORIES:Local Shows
ATTACH;FMTTYPE=image/jpeg:https://framecenter.com/wp-content/uploads/2025/01/3-600x600-1.jpg
ORGANIZER;CN="Hull Artists":MAILTO:info@hullartists.com
END:VEVENT
BEGIN:VEVENT
DTSTART;TZID=America/New_York:20250129T000000
DTEND;TZID=America/New_York:20250312T235959
DTSTAMP:20260421T055113
CREATED:20250131T165955Z
LAST-MODIFIED:20250131T165955Z
UID:10002561-1738108800-1741823999@framecenter.com
SUMMARY:Scituate Art Associations 2025 Juried Art Show : Call For Art
DESCRIPTION:Scituate Arts Association’sAnnual Juried ShowCall for Artists for Online Entries\n\n\nThe Scituate Arts Association is proud to announce its Juried Show to be held at its Front Street Art Gallery from Friday\, April 4th through Sunday\, April 27th   Awards presentation by invitation will take place Friday evening\, April 11th at 7:00 pm. \nOn-line Entry Only: Online entry opens on Wednesday\, January 29th and closes on Wednesday\, March 12.th   Accepted works will remain on display during Gallery hours through Sunday\, April 27.th
URL:https://framecenter.com/event/scituate-art-associations-2025-juried-art-show-call-for-art/
CATEGORIES:Local Shows
ATTACH;FMTTYPE=image/jpeg:https://framecenter.com/wp-content/uploads/2025/01/images.jpeg
ORGANIZER;CN="Scituate Arts Association":MAILTO:ScituateArtsAssociation@gmail.com
END:VEVENT
BEGIN:VEVENT
DTSTART;TZID=America/New_York:20250201T000000
DTEND;TZID=America/New_York:20250404T235959
DTSTAMP:20260421T055113
CREATED:20250226T222020Z
LAST-MODIFIED:20250226T222020Z
UID:10002580-1738368000-1743811199@framecenter.com
SUMMARY:Frame Center Featured Gallery Artist -  Susan Lefevre
DESCRIPTION:On display now in Frame Centers Showroom Feature Gallery\, artist Susan Lefevre presents her abstract collection.  A varied assemblage of artwork inspired by Nature and the Elements\, Susans unique pieces enthrall the senses with her palette.  Working on what she calls “Plastic Paper”\, her work on transparent plexiglass creates a unique depth within her work by manipulating both sides of her material\, allowing for layering that isn’t possible with other traditional bases.  These will be on display until April 4th.  If you’d like to know more about her please see our in store books that we have readily available in for all our featured artists or online through the Community section at FrameCenter.com
URL:https://framecenter.com/event/frame-center-featured-gallery-artist-susan-lefevre/
LOCATION:Frame Center Hanover\, 152 Rockland Street\, Hanover\, MA\, 02339\, United States
CATEGORIES:FC Events
ATTACH;FMTTYPE=image/jpeg:https://framecenter.com/wp-content/uploads/2025/02/IMG_7369-scaled-e1740583781305.jpeg
END:VEVENT
BEGIN:VEVENT
DTSTART;TZID=America/New_York:20250202T000000
DTEND;TZID=America/New_York:20250419T235959
DTSTAMP:20260421T055113
CREATED:20250115T190100Z
LAST-MODIFIED:20250115T190100Z
UID:10002552-1738454400-1745107199@framecenter.com
SUMMARY:Duxbury Art Associations Annual Winter Juried Show
DESCRIPTION:Irene Roman\, “Wayne”\, transparent watercolor Winner of “Best in Show\,” DAA 2024 Exhibit \n\nDuxbury Art Association Annual Winter Juried Show\nFebruary 2 – April 19\, 2025\nReception: February 2\, 2025\, 1:00 – 4:00 pm
URL:https://framecenter.com/event/duxbury-art-associations-annual-winter-juried-show/
LOCATION:The Art Complex Museum\, 189 Alden Street\, Duxbury\, 02332\, United States
CATEGORIES:Local Shows
END:VEVENT
BEGIN:VEVENT
DTSTART;TZID=America/New_York:20250202T000000
DTEND;TZID=America/New_York:20250419T235959
DTSTAMP:20260421T055113
CREATED:20241228T212108Z
LAST-MODIFIED:20241228T212108Z
UID:10002547-1738454400-1745107199@framecenter.com
SUMMARY:Duxbury Art Associations 52nd Annual Winter Juried Show
DESCRIPTION:  Duxbury Art Association (DAA) is pleased to announce our 52nd Annual Winter Juried Show\, known as one of the most prestigious juried competitions in the region. \n   We are excited to be showing this exhibit at the Art Complex Museum\, 189 Alden Street\, Duxbury\, MA. Show dates: February 2\, 2025 through April 19\, 2025
URL:https://framecenter.com/event/duxbury-art-associations-52nd-annual-winter-juried-show/
LOCATION:The Art Complex Museum\, 189 Alden Street\, Duxbury\, 02332\, United States
CATEGORIES:Local Shows
ATTACH;FMTTYPE=:
END:VEVENT
BEGIN:VEVENT
DTSTART;TZID=America/New_York:20250207T000000
DTEND;TZID=America/New_York:20250308T235959
DTSTAMP:20260421T055113
CREATED:20250204T152606Z
LAST-MODIFIED:20250204T152606Z
UID:10002565-1738886400-1741478399@framecenter.com
SUMMARY:Norwell High School AP Art Exhibition
DESCRIPTION:
URL:https://framecenter.com/event/norwell-high-school-ap-art-exhibition/
LOCATION:The James Library  & Center for the Arts\, 24 West Street\, Norwell\, MA\, United States
CATEGORIES:Local Shows
ATTACH;FMTTYPE=image/png:https://framecenter.com/wp-content/uploads/2025/02/Screen-Shot-2025-02-01-at-10.34.39-AM.png
END:VEVENT
BEGIN:VEVENT
DTSTART;TZID=America/New_York:20250213T000000
DTEND;TZID=America/New_York:20250329T235959
DTSTAMP:20260421T055113
CREATED:20250204T224530Z
LAST-MODIFIED:20250204T224530Z
UID:10002571-1739404800-1743292799@framecenter.com
SUMMARY:Laurinda Phakos O'Connor Retrospective Exhibit at SSAC
DESCRIPTION:On Display from February 13th through March 29th at South Shore Art Center\nThere will be an Opening Reception on Thursday March 6th from 6-8pm
URL:https://framecenter.com/event/laurinda-phakos-oconnor-retrospective-exhibit-at-ssac/
LOCATION:SSAC\, 119 Ripley Rd\, Cohasset\, MA\, United States
CATEGORIES:Local Shows
ATTACH;FMTTYPE=image/jpeg:https://framecenter.com/wp-content/uploads/2025/02/46dbd2e1-0211-4db1-a3d2-b649522c5016.jpg
END:VEVENT
BEGIN:VEVENT
DTSTART;TZID=America/New_York:20250215T000000
DTEND;TZID=America/New_York:20250404T235959
DTSTAMP:20260421T055113
CREATED:20250225T230521Z
LAST-MODIFIED:20250225T230521Z
UID:10002579-1739577600-1743811199@framecenter.com
SUMMARY:Frame Center Featured Gallery Artist - Robert Brodesky
DESCRIPTION:  On Display now in our FC Main Gallery are a selection of pieces from several of Robert Brodesky’s collections.  These large scale Oil and mixed media pieces feature stylized depictions of the human form with bold coloring and dramatic angles.  They portray the complexities of urban life\, the experiences of city living\, and the strive for self reliance.
URL:https://framecenter.com/event/frame-center-featured-gallery-artist-robert-brodesky/
LOCATION:Frame Center Hanover\, 152 Rockland Street\, Hanover\, MA\, 02339\, United States
CATEGORIES:FC Events
ATTACH;FMTTYPE=image/jpeg:https://framecenter.com/wp-content/uploads/2025/02/Robert-Brodesky-sign-copy-scaled-e1740522875537.jpg
END:VEVENT
BEGIN:VEVENT
DTSTART;TZID=America/New_York:20250218T000000
DTEND;TZID=America/New_York:20250331T235959
DTSTAMP:20260421T055113
CREATED:20250311T213411Z
LAST-MODIFIED:20250311T213411Z
UID:10002595-1739836800-1743465599@framecenter.com
SUMMARY:SSAC Artist Spotlight - Dana Barunas
DESCRIPTION:South Shore Art Center presents the Artist Spotlight for the months of February and March  \nDana Barunas\nStop by the South Shore Art Center to view these pieces\, in there glass entryway\, anytime between February 18th through March 31st \n 
URL:https://framecenter.com/event/ssac-artist-spotlight-dana-barunas/
LOCATION:SSAC\, 119 Ripley Rd\, Cohasset\, MA\, United States
CATEGORIES:Local Shows
ATTACH;FMTTYPE=image/jpeg:https://framecenter.com/wp-content/uploads/2025/03/DBarunas-Dawn-of-Creation-W433.jpeg
END:VEVENT
BEGIN:VEVENT
DTSTART;TZID=America/New_York:20250222T000000
DTEND;TZID=America/New_York:20250412T235959
DTSTAMP:20260421T055113
CREATED:20250226T222935Z
LAST-MODIFIED:20250226T222935Z
UID:10002581-1740182400-1744502399@framecenter.com
SUMMARY:Behind Their Faces  by Doug Aaberg
DESCRIPTION:Join us in celebration of the works by Doug Aaberg\, on display February 22 to April 12\, 2025 at the Ventress Memorial Library. The opening reception will take place Friday\, February 28\, 5:30-7:30pm at Jeanne Horan Gallery at Ventress Memorial Library
URL:https://framecenter.com/event/behind-their-faces-by-doug-aaberg/
LOCATION:Ventress Memorial Library\, 1837 Ocean Street/route 139\, Marshfield\, 02050\, United States
CATEGORIES:Local Shows
ATTACH;FMTTYPE=image/jpeg:https://framecenter.com/wp-content/uploads/2025/02/IMG_7488.jpeg
END:VEVENT
END:VCALENDAR