BEGIN:VCALENDAR
VERSION:2.0
PRODID:-//Frame Center - ECPv6.2.9//NONSGML v1.0//EN
CALSCALE:GREGORIAN
METHOD:PUBLISH
X-ORIGINAL-URL:https://framecenter.com
X-WR-CALDESC:Events for Frame Center
REFRESH-INTERVAL;VALUE=DURATION:PT1H
X-Robots-Tag:noindex
X-PUBLISHED-TTL:PT1H
BEGIN:VTIMEZONE
TZID:America/New_York
BEGIN:DAYLIGHT
TZOFFSETFROM:-0500
TZOFFSETTO:-0400
TZNAME:EDT
DTSTART:20260308T070000
END:DAYLIGHT
BEGIN:STANDARD
TZOFFSETFROM:-0400
TZOFFSETTO:-0500
TZNAME:EST
DTSTART:20261101T060000
END:STANDARD
END:VTIMEZONE
BEGIN:VEVENT
DTSTART;TZID=America/New_York:20260416T170000
DTEND;TZID=America/New_York:20260416T200000
DTSTAMP:20260423T082246
CREATED:20260415T175256Z
LAST-MODIFIED:20260415T175256Z
UID:10003803-1776358800-1776369600@framecenter.com
SUMMARY:Solo Jazz Guitarist Daniel Avila
DESCRIPTION:Thursday Nights @ the Museum!\nSolo Jazz Guitarist\nDaniel Avila\n\nThursday\, April 16\, 2026\nDoors open at 5:00 pm\nMusic begins at 6:00 pm \nFree Event \nRSVP \nSouth Shore Conservatory proudly presents guitarist Daniel Avila in a special solo jazz performance at the Art Complex Museum. A versatile performer and composer\, Daniel brings a rich and distinctive artistic voice to the stage. His work spans jazz\, rock\, orchestral\, and contemporary music\, and he has toured extensively across the United States and internationally. His collaborations include performances with big bands\, international jazz ensembles\, and orchestral projects with the Philharmonic Orchestra of Bogotá. \nBeyond the stage\, Daniel’s compositions have been featured in more than 30 films screened in cities such as New York\, Madrid\, Los Angeles\, London\, and Rome. He joined South Shore Conservatory in 2025 and brings the depth of his performing and composing career to this intimate solo jazz guitar program. Join us for an inspiring hour of expressive\, virtuosic\, and beautifully crafted music.
URL:https://framecenter.com/event/solo-jazz-guitarist-daniel-avila/
LOCATION:The Art Complex Museum\, 189 Alden Street\, Duxbury\, 02332\, United States
CATEGORIES:Openings/ Weekend Events
ATTACH;FMTTYPE=image/jpeg:https://framecenter.com/wp-content/uploads/2026/04/1ffa2de7-b90c-7417-0b6c-235bd4bbba56.jpeg
END:VEVENT
END:VCALENDAR