BEGIN:VCALENDAR
VERSION:2.0
PRODID:-//Frame Center - ECPv6.2.9//NONSGML v1.0//EN
CALSCALE:GREGORIAN
METHOD:PUBLISH
X-ORIGINAL-URL:https://framecenter.com
X-WR-CALDESC:Events for Frame Center
REFRESH-INTERVAL;VALUE=DURATION:PT1H
X-Robots-Tag:noindex
X-PUBLISHED-TTL:PT1H
BEGIN:VTIMEZONE
TZID:America/New_York
BEGIN:DAYLIGHT
TZOFFSETFROM:-0500
TZOFFSETTO:-0400
TZNAME:EDT
DTSTART:20260308T070000
END:DAYLIGHT
BEGIN:STANDARD
TZOFFSETFROM:-0400
TZOFFSETTO:-0500
TZNAME:EST
DTSTART:20261101T060000
END:STANDARD
END:VTIMEZONE
BEGIN:VEVENT
DTSTART;TZID=America/New_York:20260425T120000
DTEND;TZID=America/New_York:20260426T170000
DTSTAMP:20260422T170857
CREATED:20260312T213224Z
LAST-MODIFIED:20260312T213224Z
UID:10003764-1777118400-1777222800@framecenter.com
SUMMARY:Fourth Floor Artists Spring Open Studios
DESCRIPTION:Explore Working Artists’ Studios\nShop Local Art Fair\n  \nThe Sandpaper Factory\n83 E Water St\, Rockland Ma
URL:https://framecenter.com/event/fourth-floor-artists-spring-open-studios/
LOCATION:4th Floor Artists – Sandpaper Factory\, Sandpaper Factory 83 E Water street\, rockland\, MA\, 02370\, United States
CATEGORIES:Openings/ Weekend Events
ATTACH;FMTTYPE=image/jpeg:https://framecenter.com/wp-content/uploads/2026/03/IMG_8614-scaled-e1773350313164.jpeg
END:VEVENT
BEGIN:VEVENT
DTSTART;TZID=America/New_York:20260425T120000
DTEND;TZID=America/New_York:20260426T170000
DTSTAMP:20260422T170857
CREATED:20260312T215036Z
LAST-MODIFIED:20260324T150936Z
UID:10003765-1777118400-1777222800@framecenter.com
SUMMARY:The Wright Building Spring Open Studios
DESCRIPTION:Saturday and Sunday\nApril 25th and 26th from 12-5pm\n  \nExplore Working Artists’ Studios\nShop Local Art Fair\n  \nE.T. Wright Building \n379 Liberty St\, Rockland MA 02370
URL:https://framecenter.com/event/the-wright-building-spring-open-studios/
LOCATION:The Wright Building\, E.T. WRIGHT BUILDING | 379 LIBERTY ST\, rockland\, MA\, 02370\, United States
CATEGORIES:Openings/ Weekend Events
ATTACH;FMTTYPE=image/jpeg:https://framecenter.com/wp-content/uploads/2026/03/wright-e1774364939441.jpg
END:VEVENT
BEGIN:VEVENT
DTSTART;TZID=America/New_York:20260425T160000
DTEND;TZID=America/New_York:20260425T190000
DTSTAMP:20260422T170857
CREATED:20260331T164943Z
LAST-MODIFIED:20260331T164943Z
UID:10003785-1777132800-1777143600@framecenter.com
SUMMARY:Voices of Broadway
DESCRIPTION:Ellison Center for the Arts presents\nVoices of Broadway: A Duxbury Music Festival Preview Concert\nSaturday\, April 25\, 4 pm & 7 pm\n   Duxbury Music Festival presents another exciting preview concert in partnership with Duxbury’s own Mickey White. This special evening features two New York City Broadway singers performing selections by some of the most influential composers for the stage\, including Stephen Sondheim\, Jason Robert Brown\, and Leonard Bernstein. From soaring melodies to richly expressive storytelling\, this intimate concert celebrates the artistry and depth of Broadway’s greatest voices and serves as a thrilling glimpse of what’s to come at DMF. \nPerformers\nMickey White & Jeanna de Waal\, with Piano/Conductor – Brendan Shapiro; Upright Bass – Adam Shulman; Drums – George Darrah\nTickets: $40 \nTo Purchase Tickets Click Here
URL:https://framecenter.com/event/voices-of-broadway/
LOCATION:Ellison Center for the Arts\, 64 St. George Street\, Duxbury\, MA\, United States
CATEGORIES:Openings/ Weekend Events
ATTACH;FMTTYPE=image/jpeg:https://framecenter.com/wp-content/uploads/2026/03/Mickey-White-and-Jeanna-de-Waal-further-cropped-and-resized.jpeg
END:VEVENT
END:VCALENDAR