BEGIN:VCALENDAR
VERSION:2.0
PRODID:-//Frame Center - ECPv6.2.9//NONSGML v1.0//EN
CALSCALE:GREGORIAN
METHOD:PUBLISH
X-WR-CALNAME:Frame Center
X-ORIGINAL-URL:https://framecenter.com
X-WR-CALDESC:Events for Frame Center
REFRESH-INTERVAL;VALUE=DURATION:PT1H
X-Robots-Tag:noindex
X-PUBLISHED-TTL:PT1H
BEGIN:VTIMEZONE
TZID:America/New_York
BEGIN:DAYLIGHT
TZOFFSETFROM:-0500
TZOFFSETTO:-0400
TZNAME:EDT
DTSTART:20260308T070000
END:DAYLIGHT
BEGIN:STANDARD
TZOFFSETFROM:-0400
TZOFFSETTO:-0500
TZNAME:EST
DTSTART:20261101T060000
END:STANDARD
END:VTIMEZONE
BEGIN:VEVENT
DTSTART;TZID=America/New_York:20260502T180000
DTEND;TZID=America/New_York:20260502T210000
DTSTAMP:20260423T063125
CREATED:20260324T213345Z
LAST-MODIFIED:20260324T213345Z
UID:10003779-1777744800-1777755600@framecenter.com
SUMMARY:"The Art of Inclusion"
DESCRIPTION:
URL:https://framecenter.com/event/the-art-of-inclusion-2/
LOCATION:SSAC\, 119 Ripley Rd\, Cohasset\, MA\, United States
CATEGORIES:Openings/ Weekend Events
ATTACH;FMTTYPE=image/jpeg:https://framecenter.com/wp-content/uploads/2026/03/art-of-inclusion-2026_Flyer-scaled.jpg
END:VEVENT
END:VCALENDAR