BEGIN:VCALENDAR
VERSION:2.0
PRODID:-//Frame Center - ECPv6.2.9//NONSGML v1.0//EN
CALSCALE:GREGORIAN
METHOD:PUBLISH
X-WR-CALNAME:Frame Center
X-ORIGINAL-URL:https://framecenter.com
X-WR-CALDESC:Events for Frame Center
REFRESH-INTERVAL;VALUE=DURATION:PT1H
X-Robots-Tag:noindex
X-PUBLISHED-TTL:PT1H
BEGIN:VTIMEZONE
TZID:America/New_York
BEGIN:DAYLIGHT
TZOFFSETFROM:-0500
TZOFFSETTO:-0400
TZNAME:EDT
DTSTART:20260308T070000
END:DAYLIGHT
BEGIN:STANDARD
TZOFFSETFROM:-0400
TZOFFSETTO:-0500
TZNAME:EST
DTSTART:20261101T060000
END:STANDARD
END:VTIMEZONE
BEGIN:VEVENT
DTSTART;TZID=America/New_York:20260508T180000
DTEND;TZID=America/New_York:20260508T200000
DTSTAMP:20260423T104712
CREATED:20260407T175856Z
LAST-MODIFIED:20260407T175856Z
UID:10003796-1778263200-1778270400@framecenter.com
SUMMARY:Opening Reception for "Holding Ground" at the Savage Godfrey Gallery
DESCRIPTION:Opening Reception for \nHolding Ground: Nancy Cloonan\, Deborah Howard\, Ilana Manolson\n\nThe opening reception of Holding Ground will be on Friday\, May 8th from 6-8 pm\, Nancy Cloonan\, Deborah Howard and Ilana Manolson will be in attendance. Our reception will coincide with the neighboring James Library Art Gallery’s reception for Scott Ketchum: The Wild Iris.\n\n\n\nAfternoon with the Artist:\nNancy Cloonan – Friday\, April 17\, 1–4 PM\nDeborah Howard – Friday\, May 29\, 1–4 PM\n\n\n\n  \n\n\n\n\n     This April\, Savage Godfrey Gallery presents Holding Ground\, a three-artist exhibition exploring the relationship between landscape\, memory\, and place through the distinct practices of Nancy Cloonan\, Deborah Howard\, and Ilana Manolson.Together\, their work reflects a shared commitment to observing and honoring the environments that shape both their practice and perspective. \nNancy Cloonan’s paintings translate the overlooked details of daily life into layered\, abstract compositions that feel both familiar and elusive. Reason being\, she pulls shape and pattern from photographs taken during daily walks throughout Plymouth County. Picket fences\, asphalt patches\, and reflective puddles are translated into colorful forms\, combined and layered into Cloonan’s wonderfully inviting abstractions. Nancy Cloonan lives and paints in Plymouth\, MA. \nThrough a process of painting\, wiping\, and sanding\, Howard builds quiet\, layered landscapes that reflect the shifting light and atmosphere of Cape Cod’s marshes and tidal flats. Her restrained compositions reveal depth through subtle mark-making\, where traces of underpainting and gesture remain visible beneath the surface. Deborah Howard lives and paints in Barnstable\, MA. \nWhen Ilana Manolson stands before a plant to paint it\, she brings with her a rare double vision — that of the artist and the botanist. This layered perspective infuses her paintings with both visual poetry and scientific attentiveness\, revealing the quiet complexity of the natural world. Manolson’s work is rooted in the cyclical rhythms of the wetlands that surround her home in Concord\, MA. Her compositions center on native plant life\, tracing moments of growth and transition with a sensitivity to the larger systems these plants inhabit.
URL:https://framecenter.com/event/opening-reception-for-holding-ground-at-the-savage-godfrey-gallery/
LOCATION:Savage Godfrey Gallery\, 693 Main St\, Norwell\, MA\, 02061\, United States
CATEGORIES:Openings/ Weekend Events
ATTACH;FMTTYPE=image/jpeg:https://framecenter.com/wp-content/uploads/2026/04/Holding-ground-Postcard-front-scaled-e1775577976457.jpg
END:VEVENT
END:VCALENDAR