BEGIN:VCALENDAR
VERSION:2.0
PRODID:-//Frame Center - ECPv6.2.9//NONSGML v1.0//EN
CALSCALE:GREGORIAN
METHOD:PUBLISH
X-ORIGINAL-URL:https://framecenter.com
X-WR-CALDESC:Events for Frame Center
REFRESH-INTERVAL;VALUE=DURATION:PT1H
X-Robots-Tag:noindex
X-PUBLISHED-TTL:PT1H
BEGIN:VTIMEZONE
TZID:America/New_York
BEGIN:DAYLIGHT
TZOFFSETFROM:-0500
TZOFFSETTO:-0400
TZNAME:EDT
DTSTART:20260308T070000
END:DAYLIGHT
BEGIN:STANDARD
TZOFFSETFROM:-0400
TZOFFSETTO:-0500
TZNAME:EST
DTSTART:20261101T060000
END:STANDARD
END:VTIMEZONE
BEGIN:VEVENT
DTSTART;TZID=America/New_York:20260509T110000
DTEND;TZID=America/New_York:20260509T150000
DTSTAMP:20260423T173755
CREATED:20260415T172828Z
LAST-MODIFIED:20260415T172828Z
UID:10003802-1778324400-1778338800@framecenter.com
SUMMARY:Kingston's 300th Anniversary Art Festival
DESCRIPTION:Kingston’s 300th Anniversary Art Festvival\nThe town of Kingston is hosting an art festival Saturday\, May 9th 11am – 3pm for the town’s 300th anniversary.  Pieces will be on display at the The Adams Center\, Faunce School and The Beal House.  Admission is completely free.  Help to celebrate 300 years of the towns history and culture by stopping in to see these wonderful creations from artists all over the south shore.  Visit their Facebook page\, Kingston 300th to view all the other events they have planned for this celebration. \nThe Adams Center –  33 Summer St.\, Kingston MA \nFaunce School – 16 Green St.\, Kingston MA \nThe Beal House – 223 Main St.\, Kingston MA
URL:https://framecenter.com/event/kingstons-300th-anniversary-art-festival/
LOCATION:MA
CATEGORIES:Openings/ Weekend Events
ATTACH;FMTTYPE=image/jpeg:https://framecenter.com/wp-content/uploads/2026/04/kingston-e1776199689584.jpg
END:VEVENT
END:VCALENDAR