BEGIN:VCALENDAR
VERSION:2.0
PRODID:-//Frame Center - ECPv6.2.9//NONSGML v1.0//EN
CALSCALE:GREGORIAN
METHOD:PUBLISH
X-ORIGINAL-URL:https://framecenter.com
X-WR-CALDESC:Events for Frame Center
REFRESH-INTERVAL;VALUE=DURATION:PT1H
X-Robots-Tag:noindex
X-PUBLISHED-TTL:PT1H
BEGIN:VTIMEZONE
TZID:America/New_York
BEGIN:DAYLIGHT
TZOFFSETFROM:-0500
TZOFFSETTO:-0400
TZNAME:EDT
DTSTART:20260308T070000
END:DAYLIGHT
BEGIN:STANDARD
TZOFFSETFROM:-0400
TZOFFSETTO:-0500
TZNAME:EST
DTSTART:20261101T060000
END:STANDARD
END:VTIMEZONE
BEGIN:VEVENT
DTSTART;TZID=America/New_York:20260516T150000
DTEND;TZID=America/New_York:20260516T180000
DTSTAMP:20260424T032128
CREATED:20260408T212154Z
LAST-MODIFIED:20260408T212154Z
UID:10003799-1778943600-1778954400@framecenter.com
SUMMARY:Rasa String Quartet "Counterpoint in Bloom" at the South Shore Conservatory
DESCRIPTION:Rasa String Quartet\nCounterpoint in Bloom\nSaturday\, May 16th at 3 pm\nCox Hall\, Hingham\n\nRasa String Quartet is an award-winning string quartet known for their dynamic performances and genre-crossing versatility. In Counterpoint in Bloom\, Rasa explores how that nascent seed can flourish into a boundless ecosystem. Featuring Bach and Beethoven alongside Guns N’ Roses\, Prince\, and foot-stomping folk traditions from around the globe\, this genre-blending program takes you on a journey from humble riff to full-throttle banger!\n  \nTickets: $40         Click Here for Tickets
URL:https://framecenter.com/event/rasa-string-quartet-counterpoint-in-bloom-at-the-south-shore-conservatory/
LOCATION:South Shore Conservatory\, 1 Conservatory Dr\, Hingham\, MA\, United States
CATEGORIES:Openings/ Weekend Events
ATTACH;FMTTYPE=image/jpeg:https://framecenter.com/wp-content/uploads/2026/04/Rasa-Casual-2-PC_-Titilayo-Ayangade-scaled-e1775683197676.jpeg
END:VEVENT
END:VCALENDAR