BEGIN:VCALENDAR
VERSION:2.0
PRODID:-//Frame Center - ECPv6.2.9//NONSGML v1.0//EN
CALSCALE:GREGORIAN
METHOD:PUBLISH
X-WR-CALNAME:Frame Center
X-ORIGINAL-URL:https://framecenter.com
X-WR-CALDESC:Events for Frame Center
REFRESH-INTERVAL;VALUE=DURATION:PT1H
X-Robots-Tag:noindex
X-PUBLISHED-TTL:PT1H
BEGIN:VTIMEZONE
TZID:America/New_York
BEGIN:DAYLIGHT
TZOFFSETFROM:-0500
TZOFFSETTO:-0400
TZNAME:EDT
DTSTART:20260308T070000
END:DAYLIGHT
BEGIN:STANDARD
TZOFFSETFROM:-0400
TZOFFSETTO:-0500
TZNAME:EST
DTSTART:20261101T060000
END:STANDARD
END:VTIMEZONE
BEGIN:VEVENT
DTSTART;TZID=America/New_York:20260606T100000
DTEND;TZID=America/New_York:20260606T120000
DTSTAMP:20260423T075049
CREATED:20260421T200632Z
LAST-MODIFIED:20260421T200632Z
UID:10003804-1780740000-1780747200@framecenter.com
SUMMARY:Call for Art - Hanover Days Art Show
DESCRIPTION:Hanover Days Art Show\nCall for Art\n  \nDrop off’s for this years exhibit will be on \nSaturday June 6th from 10am until 12pm and\nTuesday June 9th from 4pm until 6pm\nFor up to date information and art prospectus please visit the “Events” tab and select Juried Art Show on \nHanover Days Website Here
URL:https://framecenter.com/event/call-for-art-hanover-days-art-show/2026-06-06/
LOCATION:Frame Center Hanover\, 152 Rockland Street\, Hanover\, MA\, 02339\, United States
CATEGORIES:Openings/ Weekend Events
ATTACH;FMTTYPE=image/jpeg:https://framecenter.com/wp-content/uploads/2026/04/26_HCC_artshow_ONLINE@0.5x-100.jpg
END:VEVENT
BEGIN:VEVENT
DTSTART;TZID=America/New_York:20260609T160000
DTEND;TZID=America/New_York:20260609T180000
DTSTAMP:20260423T075049
CREATED:20260421T200632Z
LAST-MODIFIED:20260421T200632Z
UID:10003805-1781020800-1781028000@framecenter.com
SUMMARY:Call for Art - Hanover Days Art Show
DESCRIPTION:Hanover Days Art Show\nCall for Art\n  \nDrop off’s for this years exhibit will be on \nSaturday June 6th from 10am until 12pm and\nTuesday June 9th from 4pm until 6pm\nFor up to date information and art prospectus please visit the “Events” tab and select Juried Art Show on \nHanover Days Website Here
URL:https://framecenter.com/event/call-for-art-hanover-days-art-show/2026-06-09/
LOCATION:Frame Center Hanover\, 152 Rockland Street\, Hanover\, MA\, 02339\, United States
CATEGORIES:Openings/ Weekend Events
ATTACH;FMTTYPE=image/jpeg:https://framecenter.com/wp-content/uploads/2026/04/26_HCC_artshow_ONLINE@0.5x-100.jpg
END:VEVENT
BEGIN:VEVENT
DTSTART;TZID=America/New_York:20260611T150000
DTEND;TZID=America/New_York:20260611T170000
DTSTAMP:20260423T075049
CREATED:20260317T145349Z
LAST-MODIFIED:20260317T145349Z
UID:10003769-1781190000-1781197200@framecenter.com
SUMMARY:Opening Reception for Plymouth Center for the Arts Inaugural Sculpture Exhibition
DESCRIPTION:Inaugural Sculpture Exhibition\nOpening Reception & Ribbon Cutting\nThursday\, June 11th from 3 – 5PM\n\n\n\n\nPlymouth Center for the Arts invites artists to participate in its Inaugural Sculpture Exhibition\, celebrating the formal opening of our new outdoor gallery and beautifully landscaped garden. The Art Center expects this exhibit to set a new and dynamic standard \n\n 
URL:https://framecenter.com/event/opening-reception-for-plymouth-center-for-the-arts-inaugural-sculpture-exhibition/
LOCATION:Plymouth Center for the Arts\, 11 North Street\, Plymouth\, MA\, 02360\, United States
CATEGORIES:Openings/ Weekend Events
ATTACH;FMTTYPE=image/jpeg:https://framecenter.com/wp-content/uploads/2026/03/Sculpture-Exhibit-Poster-V6_1769537783-scaled-e1773758551934.jpeg
END:VEVENT
BEGIN:VEVENT
DTSTART;TZID=America/New_York:20260619T130000
DTEND;TZID=America/New_York:20260619T190000
DTSTAMP:20260423T075049
CREATED:20260401T173029Z
LAST-MODIFIED:20260401T173029Z
UID:10003780-1781874000-1781895600@framecenter.com
SUMMARY:South Shore Arts Festival 2026
DESCRIPTION:The 71st\nSouth Shore Arts Festival\nSouth Shore Art Center is delighted to announce a marvelous 2026 Arts Festival for Father’s Day weekend on Cohasset Town Common. Our 71st Arts Festival will recenter our focus on art\, our craft exhibitors and our community.  SSAC installs about 400 original artworks each year in our Festival Juried\, Members’ and Young Artists’ Shows.\nNearly 100 local crafters will be there showcasing their art and crafts along with Live Music\, Food\, and the Members show exhibits.  It’s Event filled holiday weekend that you shouldn’t miss out on\, make sure to mark your calendar.
URL:https://framecenter.com/event/south-shore-arts-festival-2026/2026-06-19/
LOCATION:SSAC\, 119 Ripley Rd\, Cohasset\, MA\, United States
CATEGORIES:Openings/ Weekend Events
ATTACH;FMTTYPE=image/jpeg:https://framecenter.com/wp-content/uploads/2026/03/Screen-Shot-2026-03-24-at-5.34.51-PM-scaled.jpeg
END:VEVENT
BEGIN:VEVENT
DTSTART;TZID=America/New_York:20260620T100000
DTEND;TZID=America/New_York:20260620T190000
DTSTAMP:20260423T075049
CREATED:20260401T173029Z
LAST-MODIFIED:20260401T173029Z
UID:10003781-1781949600-1781982000@framecenter.com
SUMMARY:South Shore Arts Festival 2026
DESCRIPTION:The 71st\nSouth Shore Arts Festival\nSouth Shore Art Center is delighted to announce a marvelous 2026 Arts Festival for Father’s Day weekend on Cohasset Town Common. Our 71st Arts Festival will recenter our focus on art\, our craft exhibitors and our community.  SSAC installs about 400 original artworks each year in our Festival Juried\, Members’ and Young Artists’ Shows.\nNearly 100 local crafters will be there showcasing their art and crafts along with Live Music\, Food\, and the Members show exhibits.  It’s Event filled holiday weekend that you shouldn’t miss out on\, make sure to mark your calendar.
URL:https://framecenter.com/event/south-shore-arts-festival-2026/2026-06-20/
LOCATION:SSAC\, 119 Ripley Rd\, Cohasset\, MA\, United States
CATEGORIES:Openings/ Weekend Events
ATTACH;FMTTYPE=image/jpeg:https://framecenter.com/wp-content/uploads/2026/03/Screen-Shot-2026-03-24-at-5.34.51-PM-scaled.jpeg
END:VEVENT
BEGIN:VEVENT
DTSTART;TZID=America/New_York:20260621T120000
DTEND;TZID=America/New_York:20260621T170000
DTSTAMP:20260423T075049
CREATED:20260401T173029Z
LAST-MODIFIED:20260401T173029Z
UID:10003782-1782043200-1782061200@framecenter.com
SUMMARY:South Shore Arts Festival 2026
DESCRIPTION:The 71st\nSouth Shore Arts Festival\nSouth Shore Art Center is delighted to announce a marvelous 2026 Arts Festival for Father’s Day weekend on Cohasset Town Common. Our 71st Arts Festival will recenter our focus on art\, our craft exhibitors and our community.  SSAC installs about 400 original artworks each year in our Festival Juried\, Members’ and Young Artists’ Shows.\nNearly 100 local crafters will be there showcasing their art and crafts along with Live Music\, Food\, and the Members show exhibits.  It’s Event filled holiday weekend that you shouldn’t miss out on\, make sure to mark your calendar.
URL:https://framecenter.com/event/south-shore-arts-festival-2026/2026-06-21/
LOCATION:SSAC\, 119 Ripley Rd\, Cohasset\, MA\, United States
CATEGORIES:Openings/ Weekend Events
ATTACH;FMTTYPE=image/jpeg:https://framecenter.com/wp-content/uploads/2026/03/Screen-Shot-2026-03-24-at-5.34.51-PM-scaled.jpeg
END:VEVENT
BEGIN:VEVENT
DTSTART;TZID=America/New_York:20260920T130000
DTEND;TZID=America/New_York:20260920T160000
DTSTAMP:20260423T075049
CREATED:20260113T224344Z
LAST-MODIFIED:20260113T224344Z
UID:10003706-1789909200-1789920000@framecenter.com
SUMMARY:Opening Reception - Interpreting the Natural: Contemporary Visions of Scholars’ Rocks
DESCRIPTION:The Duxbury Art Center present \nInterpreting the Natural:\nContemporary Visions of Scholars’ Rocks\nSeptember 20\, 2026 – January 17\, 2027\nReception: Sunday\, September 20\, 2026\, 1:00 – 4:00 pm \n\nGuest Curator\, Donna Dodson\, brings together ten artists whose\npractices engage with the ancient Chinese tradition of appreciating\nnaturally occurring stones as vessels of contemplation\, metaphor\, and\nimaginative space. The exhibition explores how today’s artists\nreinterpret the spirit of scholars’ rocks through a range of materials\,\nscales\, and conceptual approaches. \nRather than replicating historical forms\, the featured works consider how nature is shaped; physically\, culturally\, and spiritually. Some artists emphasize geological presence and raw materiality\, while others evoke symbolic landscapes\, cosmology\, or interior states. Together\, these contemporary responses extend a centuries-old dialogue between art and nature\, inviting\nviewers to slow down and recognize the power of the organic world to\nprompt reflection and wonder. This exhibition offers a fresh perspective on an enduring artistic lineage\, bridging tradition and innovation. \nParticipating artists\nChristopher Frost\, Kate Gilbert\, Danielle Krcmar\,\nLisa Tang Liu\, Kathy Della Lucia\, Andy Moerlein\, Wen-hao Tien\, Alice\nWu\, Yu-Wev Wu\, Qhanzhou (Jack) Zhao \n\n 
URL:https://framecenter.com/event/opening-reception-interpreting-the-natural-contemporary-visions-of-scholars-rocks/
LOCATION:The Art Complex Museum\, 189 Alden Street\, Duxbury\, 02332\, United States
CATEGORIES:Openings/ Weekend Events
ATTACH;FMTTYPE=image/jpeg:https://framecenter.com/wp-content/uploads/2026/01/LiuFortuneCookieScroll-450x607-1.jpeg
END:VEVENT
END:VCALENDAR